BEGIN:VCALENDAR
VERSION:2.0
PRODID:-//Seminar und Kreativschmiede - ECPv6.15.20//NONSGML v1.0//EN
CALSCALE:GREGORIAN
METHOD:PUBLISH
X-ORIGINAL-URL:https://seminarundkreativschmiede.de
X-WR-CALDESC:Veranstaltungen für Seminar und Kreativschmiede
REFRESH-INTERVAL;VALUE=DURATION:PT1H
X-Robots-Tag:noindex
X-PUBLISHED-TTL:PT1H
BEGIN:VTIMEZONE
TZID:Europe/Berlin
BEGIN:DAYLIGHT
TZOFFSETFROM:+0100
TZOFFSETTO:+0200
TZNAME:CEST
DTSTART:20210328T010000
END:DAYLIGHT
BEGIN:STANDARD
TZOFFSETFROM:+0200
TZOFFSETTO:+0100
TZNAME:CET
DTSTART:20211031T010000
END:STANDARD
BEGIN:DAYLIGHT
TZOFFSETFROM:+0100
TZOFFSETTO:+0200
TZNAME:CEST
DTSTART:20220327T010000
END:DAYLIGHT
BEGIN:STANDARD
TZOFFSETFROM:+0200
TZOFFSETTO:+0100
TZNAME:CET
DTSTART:20221030T010000
END:STANDARD
BEGIN:DAYLIGHT
TZOFFSETFROM:+0100
TZOFFSETTO:+0200
TZNAME:CEST
DTSTART:20230326T010000
END:DAYLIGHT
BEGIN:STANDARD
TZOFFSETFROM:+0200
TZOFFSETTO:+0100
TZNAME:CET
DTSTART:20231029T010000
END:STANDARD
END:VTIMEZONE
BEGIN:VEVENT
DTSTART;VALUE=DATE:20221004
DTEND;VALUE=DATE:20221009
DTSTAMP:20260425T233229
CREATED:20220731T073115Z
LAST-MODIFIED:20220731T073115Z
UID:267-1664841600-1665273599@seminarundkreativschmiede.de
SUMMARY:Klangschalenseminar
DESCRIPTION:
URL:https://seminarundkreativschmiede.de/kalender/klangschalenseminar/
END:VEVENT
BEGIN:VEVENT
DTSTART;VALUE=DATE:20221009
DTEND;VALUE=DATE:20221010
DTSTAMP:20260425T233229
CREATED:20220731T073258Z
LAST-MODIFIED:20220731T073258Z
UID:269-1665273600-1665359999@seminarundkreativschmiede.de
SUMMARY:Wildwurstseminar mit "Rehzept"
DESCRIPTION:
URL:https://seminarundkreativschmiede.de/kalender/wildwurstseminar-mit-rehzept/
END:VEVENT
END:VCALENDAR